BEGIN:VCALENDAR
VERSION:2.0
PRODID:-//California Council for Affordable Housing - ECPv6.15.20//NONSGML v1.0//EN
CALSCALE:GREGORIAN
METHOD:PUBLISH
X-WR-CALNAME:California Council for Affordable Housing
X-ORIGINAL-URL:https://californiacouncil.org
X-WR-CALDESC:Events for California Council for Affordable Housing
REFRESH-INTERVAL;VALUE=DURATION:PT1H
X-Robots-Tag:noindex
X-PUBLISHED-TTL:PT1H
BEGIN:VTIMEZONE
TZID:America/Los_Angeles
BEGIN:DAYLIGHT
TZOFFSETFROM:-0800
TZOFFSETTO:-0700
TZNAME:PDT
DTSTART:20240310T100000
END:DAYLIGHT
BEGIN:STANDARD
TZOFFSETFROM:-0700
TZOFFSETTO:-0800
TZNAME:PST
DTSTART:20241103T090000
END:STANDARD
BEGIN:DAYLIGHT
TZOFFSETFROM:-0800
TZOFFSETTO:-0700
TZNAME:PDT
DTSTART:20250309T100000
END:DAYLIGHT
BEGIN:STANDARD
TZOFFSETFROM:-0700
TZOFFSETTO:-0800
TZNAME:PST
DTSTART:20251102T090000
END:STANDARD
BEGIN:DAYLIGHT
TZOFFSETFROM:-0800
TZOFFSETTO:-0700
TZNAME:PDT
DTSTART:20260308T100000
END:DAYLIGHT
BEGIN:STANDARD
TZOFFSETFROM:-0700
TZOFFSETTO:-0800
TZNAME:PST
DTSTART:20261101T090000
END:STANDARD
END:VTIMEZONE
BEGIN:VEVENT
DTSTART;TZID=America/Los_Angeles:20250714T100000
DTEND;TZID=America/Los_Angeles:20250714T100000
DTSTAMP:20260421T094340
CREATED:20250713T203517Z
LAST-MODIFIED:20250713T204010Z
UID:10000203-1752487200-1752487200@californiacouncil.org
SUMMARY:SEN - APPROPRIATIONS\, CABALLERO\, ANNA\, Chair
DESCRIPTION:AB 6 (Ward) – Residential developments: building standards: review.
URL:https://californiacouncil.org/event/sen-appropriations-caballero-anna-chair-26
LOCATION:10 a.m. – 1021 O Street\, Room 2200\, O Street 1021\, Sacramento\, California\, 95814\, United States
CATEGORIES:Capitol Track
GEO:38.5749346;-121.4950986
X-APPLE-STRUCTURED-LOCATION;VALUE=URI;X-ADDRESS=10 a.m. – 1021 O Street Room 2200 O Street 1021 Sacramento California 95814 United States;X-APPLE-RADIUS=500;X-TITLE=O Street 1021:geo:-121.4950986,38.5749346
END:VEVENT
BEGIN:VEVENT
DTSTART;TZID=America/Los_Angeles:20250714T140000
DTEND;TZID=America/Los_Angeles:20250714T140000
DTSTAMP:20260421T094340
CREATED:20250713T203517Z
LAST-MODIFIED:20250713T204011Z
UID:10000204-1752501600-1752501600@californiacouncil.org
SUMMARY:SEN - ASSEMBLY BILLS - SECOND READING FILE
DESCRIPTION:#9 AB 1276 (Carrillo) – Housing developments: ordinances\, policies\, and standards.
URL:https://californiacouncil.org/event/sen-assembly-bills-second-reading-file-5
LOCATION:SENATE FLOOR
CATEGORIES:Capitol Track
END:VEVENT
BEGIN:VEVENT
DTSTART;TZID=America/Los_Angeles:20250714T140000
DTEND;TZID=America/Los_Angeles:20250714T140000
DTSTAMP:20260421T094340
CREATED:20250713T203517Z
LAST-MODIFIED:20250713T204011Z
UID:10000205-1752501600-1752501600@californiacouncil.org
SUMMARY:SEN - ASSEMBLY BILLS - THIRD READING FILE
DESCRIPTION:#116 AB 301 (Schiavo) – Planning and zoning: housing development projects: postentitlement phase permits: state agencies.#136 AB 87 (Boerner) – Housing development: density bonuses.
URL:https://californiacouncil.org/event/sen-assembly-bills-third-reading-file-5
LOCATION:SENATE FLOOR
CATEGORIES:Capitol Track
END:VEVENT
BEGIN:VEVENT
DTSTART;TZID=America/Los_Angeles:20250714T140000
DTEND;TZID=America/Los_Angeles:20250714T140000
DTSTAMP:20260421T094340
CREATED:20250714T205017Z
LAST-MODIFIED:20250714T205509Z
UID:10000211-1752501600-1752501600@californiacouncil.org
SUMMARY:SEN - ASSEMBLY BILLS - SECOND READING FILE
DESCRIPTION:#9 AB 1276 (Carrillo) – Housing developments: ordinances\, policies\, and standards.
URL:https://californiacouncil.org/event/sen-assembly-bills-second-reading-file-6
LOCATION:SENATE FLOOR
CATEGORIES:Capitol Track
END:VEVENT
BEGIN:VEVENT
DTSTART;TZID=America/Los_Angeles:20250714T140000
DTEND;TZID=America/Los_Angeles:20250714T140000
DTSTAMP:20260421T094340
CREATED:20250714T205017Z
LAST-MODIFIED:20250714T205509Z
UID:10000212-1752501600-1752501600@californiacouncil.org
SUMMARY:SEN - ASSEMBLY BILLS - THIRD READING FILE
DESCRIPTION:#116 AB 301 (Schiavo) – Planning and zoning: housing development projects: postentitlement phase permits: state agencies.#136 AB 87 (Boerner) – Housing development: density bonuses.
URL:https://californiacouncil.org/event/sen-assembly-bills-third-reading-file-6
LOCATION:SENATE FLOOR
CATEGORIES:Capitol Track
END:VEVENT
END:VCALENDAR