BEGIN:VCALENDAR
VERSION:2.0
PRODID:-//California Council for Affordable Housing - ECPv6.15.20//NONSGML v1.0//EN
CALSCALE:GREGORIAN
METHOD:PUBLISH
X-ORIGINAL-URL:https://californiacouncil.org
X-WR-CALDESC:Events for California Council for Affordable Housing
REFRESH-INTERVAL;VALUE=DURATION:PT1H
X-Robots-Tag:noindex
X-PUBLISHED-TTL:PT1H
BEGIN:VTIMEZONE
TZID:America/Los_Angeles
BEGIN:DAYLIGHT
TZOFFSETFROM:-0800
TZOFFSETTO:-0700
TZNAME:PDT
DTSTART:20240310T100000
END:DAYLIGHT
BEGIN:STANDARD
TZOFFSETFROM:-0700
TZOFFSETTO:-0800
TZNAME:PST
DTSTART:20241103T090000
END:STANDARD
BEGIN:DAYLIGHT
TZOFFSETFROM:-0800
TZOFFSETTO:-0700
TZNAME:PDT
DTSTART:20250309T100000
END:DAYLIGHT
BEGIN:STANDARD
TZOFFSETFROM:-0700
TZOFFSETTO:-0800
TZNAME:PST
DTSTART:20251102T090000
END:STANDARD
BEGIN:DAYLIGHT
TZOFFSETFROM:-0800
TZOFFSETTO:-0700
TZNAME:PDT
DTSTART:20260308T100000
END:DAYLIGHT
BEGIN:STANDARD
TZOFFSETFROM:-0700
TZOFFSETTO:-0800
TZNAME:PST
DTSTART:20261101T090000
END:STANDARD
END:VTIMEZONE
BEGIN:VEVENT
DTSTART;TZID=America/Los_Angeles:20250910T130000
DTEND;TZID=America/Los_Angeles:20250910T130000
DTSTAMP:20260421T035242
CREATED:20250910T185017Z
LAST-MODIFIED:20250910T185017Z
UID:10000388-1757509200-1757509200@californiacouncil.org
SUMMARY:ASM - CONCURRENCE IN SENATE AMENDMENTS
DESCRIPTION:#6 AB 648 (Zbur) – Community colleges: housing: local zoning regulations: exemption.
URL:https://californiacouncil.org/event/asm-concurrence-in-senate-amendments-8
LOCATION:ASSEMBLY FLOOR
CATEGORIES:Capitol Track
END:VEVENT
BEGIN:VEVENT
DTSTART;TZID=America/Los_Angeles:20250910T130000
DTEND;TZID=America/Los_Angeles:20250910T130000
DTSTAMP:20260421T035242
CREATED:20250910T185017Z
LAST-MODIFIED:20250910T185017Z
UID:10000389-1757509200-1757509200@californiacouncil.org
SUMMARY:ASM - CONCURRENCE
DESCRIPTION:#221 AB 1308 (Hoover) – Residential building permits: inspections: Housing Accountability Act.#255 AB 818 (Ávila Farías) – Permit Streamlining Act: local emergencies.#269 AB 246 (Bryan) – Social Security Tenant Protection Act of 2025.
URL:https://californiacouncil.org/event/asm-concurrence
LOCATION:ASSEMBLY FLOOR
CATEGORIES:Capitol Track
END:VEVENT
BEGIN:VEVENT
DTSTART;TZID=America/Los_Angeles:20250910T130000
DTEND;TZID=America/Los_Angeles:20250910T130000
DTSTAMP:20260421T035242
CREATED:20250910T185017Z
LAST-MODIFIED:20250910T185017Z
UID:10000390-1757509200-1757509200@californiacouncil.org
SUMMARY:ASM - THIRD READING FILE - SENATE BILLS
DESCRIPTION:#30 SB 522 (Wahab) – Housing: tenant protections. (Floor Mgr. – Garcia)#37 SB 838 (Durazo) – Housing Accountability Act: housing development projects. (Floor Mgr. – Garcia)#91 SB 79 (Wiener) – Housing development: transit-oriented development. (Floor Mgr. – Garcia)
URL:https://californiacouncil.org/event/asm-third-reading-file-senate-bills-24
LOCATION:ASSEMBLY FLOOR
CATEGORIES:Capitol Track
END:VEVENT
END:VCALENDAR