BEGIN:VCALENDAR
VERSION:2.0
PRODID:-//California Council for Affordable Housing - ECPv6.15.20//NONSGML v1.0//EN
CALSCALE:GREGORIAN
METHOD:PUBLISH
X-WR-CALNAME:California Council for Affordable Housing
X-ORIGINAL-URL:https://californiacouncil.org
X-WR-CALDESC:Events for California Council for Affordable Housing
REFRESH-INTERVAL;VALUE=DURATION:PT1H
X-Robots-Tag:noindex
X-PUBLISHED-TTL:PT1H
BEGIN:VTIMEZONE
TZID:America/Los_Angeles
BEGIN:DAYLIGHT
TZOFFSETFROM:-0800
TZOFFSETTO:-0700
TZNAME:PDT
DTSTART:20250309T100000
END:DAYLIGHT
BEGIN:STANDARD
TZOFFSETFROM:-0700
TZOFFSETTO:-0800
TZNAME:PST
DTSTART:20251102T090000
END:STANDARD
BEGIN:DAYLIGHT
TZOFFSETFROM:-0800
TZOFFSETTO:-0700
TZNAME:PDT
DTSTART:20260308T100000
END:DAYLIGHT
BEGIN:STANDARD
TZOFFSETFROM:-0700
TZOFFSETTO:-0800
TZNAME:PST
DTSTART:20261101T090000
END:STANDARD
BEGIN:DAYLIGHT
TZOFFSETFROM:-0800
TZOFFSETTO:-0700
TZNAME:PDT
DTSTART:20270314T100000
END:DAYLIGHT
BEGIN:STANDARD
TZOFFSETFROM:-0700
TZOFFSETTO:-0800
TZNAME:PST
DTSTART:20271107T090000
END:STANDARD
END:VTIMEZONE
BEGIN:VEVENT
DTSTART;TZID=America/Los_Angeles:20260122T060000
DTEND;TZID=America/Los_Angeles:20260122T060000
DTSTAMP:20260420T210930
CREATED:20260121T205016Z
LAST-MODIFIED:20260121T205509Z
UID:10000450-1769061600-1769061600@californiacouncil.org
SUMMARY:ASM - APPROPRIATIONS\, WICKS\, BUFFY\, Chair
DESCRIPTION:AB 939 (Schultz) – Housing development: density bonuses: affordability of for-sale units.AB 1439 (Garcia) – Public retirement systems: development projects: labor standards.
URL:https://californiacouncil.org/event/asm-appropriations-wicks-buffy-chair-14
LOCATION:Upon adjournment of Session – 1021 O Street\, Room 1100\, O Street 1021\, Sacramento\, California\, 95814\, United States
CATEGORIES:Capitol Track
GEO:38.5749346;-121.4950986
X-APPLE-STRUCTURED-LOCATION;VALUE=URI;X-ADDRESS=Upon adjournment of Session – 1021 O Street Room 1100 O Street 1021 Sacramento California 95814 United States;X-APPLE-RADIUS=500;X-TITLE=O Street 1021:geo:-121.4950986,38.5749346
END:VEVENT
BEGIN:VEVENT
DTSTART;TZID=America/Los_Angeles:20260122T060000
DTEND;TZID=America/Los_Angeles:20260122T060000
DTSTAMP:20260420T210930
CREATED:20260121T205017Z
LAST-MODIFIED:20260121T205509Z
UID:10000451-1769061600-1769061600@californiacouncil.org
SUMMARY:SEN - APPROPRIATIONS SUSPENSE\, CABALLERO\, ANNA\, Chair
DESCRIPTION:SB 417 (Cabaldon) – The Affordable Housing Bond Act of 2026.
URL:https://californiacouncil.org/event/sen-appropriations-suspense-caballero-anna-chair-8
LOCATION:Upon adjournment of Session – 1021 O Street\, Room 2200\, O Street 1021\, Sacramento\, California\, 95814\, United States
CATEGORIES:Capitol Track
GEO:38.5749346;-121.4950986
X-APPLE-STRUCTURED-LOCATION;VALUE=URI;X-ADDRESS=Upon adjournment of Session – 1021 O Street Room 2200 O Street 1021 Sacramento California 95814 United States;X-APPLE-RADIUS=500;X-TITLE=O Street 1021:geo:-121.4950986,38.5749346
END:VEVENT
BEGIN:VEVENT
DTSTART;TZID=America/Los_Angeles:20260122T090000
DTEND;TZID=America/Los_Angeles:20260122T090000
DTSTAMP:20260420T210930
CREATED:20260121T205017Z
LAST-MODIFIED:20260121T205509Z
UID:10000452-1769072400-1769072400@californiacouncil.org
SUMMARY:ASM - THIRD READING FILE - ASSEMBLY BILLS
DESCRIPTION:#81 AB 1406 (Ward) – Attached residential condominium sales: liquidated damages.
URL:https://californiacouncil.org/event/asm-third-reading-file-assembly-bills-6
LOCATION:ASSEMBLY FLOOR
CATEGORIES:Capitol Track
END:VEVENT
END:VCALENDAR