BEGIN:VCALENDAR
VERSION:2.0
PRODID:-//California Council for Affordable Housing - ECPv6.15.20//NONSGML v1.0//EN
CALSCALE:GREGORIAN
METHOD:PUBLISH
X-ORIGINAL-URL:https://californiacouncil.org
X-WR-CALDESC:Events for California Council for Affordable Housing
REFRESH-INTERVAL;VALUE=DURATION:PT1H
X-Robots-Tag:noindex
X-PUBLISHED-TTL:PT1H
BEGIN:VTIMEZONE
TZID:America/Los_Angeles
BEGIN:DAYLIGHT
TZOFFSETFROM:-0800
TZOFFSETTO:-0700
TZNAME:PDT
DTSTART:20250309T100000
END:DAYLIGHT
BEGIN:STANDARD
TZOFFSETFROM:-0700
TZOFFSETTO:-0800
TZNAME:PST
DTSTART:20251102T090000
END:STANDARD
BEGIN:DAYLIGHT
TZOFFSETFROM:-0800
TZOFFSETTO:-0700
TZNAME:PDT
DTSTART:20260308T100000
END:DAYLIGHT
BEGIN:STANDARD
TZOFFSETFROM:-0700
TZOFFSETTO:-0800
TZNAME:PST
DTSTART:20261101T090000
END:STANDARD
BEGIN:DAYLIGHT
TZOFFSETFROM:-0800
TZOFFSETTO:-0700
TZNAME:PDT
DTSTART:20270314T100000
END:DAYLIGHT
BEGIN:STANDARD
TZOFFSETFROM:-0700
TZOFFSETTO:-0800
TZNAME:PST
DTSTART:20271107T090000
END:STANDARD
END:VTIMEZONE
BEGIN:VEVENT
DTSTART;TZID=America/Los_Angeles:20260422T093000
DTEND;TZID=America/Los_Angeles:20260422T093000
DTSTAMP:20260422T155228
CREATED:20260421T182020Z
LAST-MODIFIED:20260421T182512Z
UID:10008437-1776850200-1776850200@californiacouncil.org
SUMMARY:ASM - INSURANCE\, CALDERON\, LISA\, Chair
DESCRIPTION:AB 2061 (Chen) – California FAIR Plan Association: data.
URL:https://californiacouncil.org/event/asm-insurance-calderon-lisa-chair-283
LOCATION:9:30 a.m. – State Capitol\, Room 437
CATEGORIES:Capitol Track
END:VEVENT
BEGIN:VEVENT
DTSTART;TZID=America/Los_Angeles:20260422T133000
DTEND;TZID=America/Los_Angeles:20260422T133000
DTSTAMP:20260422T155228
CREATED:20260421T182020Z
LAST-MODIFIED:20260421T182512Z
UID:10008438-1776864600-1776864600@californiacouncil.org
SUMMARY:ASM - LOCAL GOVERNMENT\, CARRILLO\, JUAN\, Chair
DESCRIPTION:AB 2058 (Harabedian) – California Factory-Built Housing Law: inspection: permitting.AB 2676 (Gallagher) – Housing Crisis Act of 2019.
URL:https://californiacouncil.org/event/asm-local-government-carrillo-juan-chair-1497
LOCATION:1:30 p.m. – State Capitol\, Room 444
CATEGORIES:Capitol Track
END:VEVENT
BEGIN:VEVENT
DTSTART;TZID=America/Los_Angeles:20260422T133000
DTEND;TZID=America/Los_Angeles:20260422T133000
DTSTAMP:20260422T155228
CREATED:20260421T182021Z
LAST-MODIFIED:20260421T182512Z
UID:10008439-1776864600-1776864600@californiacouncil.org
SUMMARY:ASM - UTILITIES AND ENERGY\, PETRIE-NORRIS\, COTTIE\, Chair
DESCRIPTION:AB 2612 (Schultz) – Building standards: qualified plug-in photovoltaic systems.
URL:https://californiacouncil.org/event/asm-utilities-and-energy-petrie-norris-cottie-chair-6
LOCATION:1:30 p.m. – State Capitol\, Room 437
CATEGORIES:Capitol Track
END:VEVENT
BEGIN:VEVENT
DTSTART;TZID=America/Los_Angeles:20260422T133000
DTEND;TZID=America/Los_Angeles:20260422T133000
DTSTAMP:20260422T155228
CREATED:20260422T183517Z
LAST-MODIFIED:20260422T184009Z
UID:10008442-1776864600-1776864600@californiacouncil.org
SUMMARY:ASM - LOCAL GOVERNMENT\, CARRILLO\, JUAN\, Chair
DESCRIPTION:AB 2058 (Harabedian) – California Factory-Built Housing Law: inspection: permitting.AB 2676 (Gallagher) – Housing Crisis Act of 2019.
URL:https://californiacouncil.org/event/asm-local-government-carrillo-juan-chair-1498
LOCATION:1:30 p.m. – State Capitol\, Room 444
CATEGORIES:Capitol Track
END:VEVENT
BEGIN:VEVENT
DTSTART;TZID=America/Los_Angeles:20260422T133000
DTEND;TZID=America/Los_Angeles:20260422T133000
DTSTAMP:20260422T155228
CREATED:20260422T183518Z
LAST-MODIFIED:20260422T184010Z
UID:10008443-1776864600-1776864600@californiacouncil.org
SUMMARY:ASM - UTILITIES AND ENERGY\, PETRIE-NORRIS\, COTTIE\, Chair
DESCRIPTION:AB 2612 (Schultz) – Building standards: qualified plug-in photovoltaic systems.
URL:https://californiacouncil.org/event/asm-utilities-and-energy-petrie-norris-cottie-chair-7
LOCATION:1:30 p.m. – State Capitol\, Room 437
CATEGORIES:Capitol Track
END:VEVENT
BEGIN:VEVENT
DTSTART;TZID=America/Los_Angeles:20260423T090000
DTEND;TZID=America/Los_Angeles:20260423T090000
DTSTAMP:20260422T155228
CREATED:20260422T183519Z
LAST-MODIFIED:20260422T184010Z
UID:10008444-1776934800-1776934800@californiacouncil.org
SUMMARY:ASM - SECOND READING FILE -- ASSEMBLY BILLS
DESCRIPTION:#5 AB 2089 (Ward) – Property taxation: welfare exemption: filing of claims: delinquency penalties.#15 AB 2390 (Schiavo) – Streamlined housing approvals: objective standards: review and modifications.
URL:https://californiacouncil.org/event/asm-second-reading-file-assembly-bills-47
LOCATION:ASSEMBLY FLOOR
CATEGORIES:Capitol Track
END:VEVENT
BEGIN:VEVENT
DTSTART;TZID=America/Los_Angeles:20260423T090000
DTEND;TZID=America/Los_Angeles:20260423T090000
DTSTAMP:20260422T155228
CREATED:20260422T183519Z
LAST-MODIFIED:20260422T184010Z
UID:10008445-1776934800-1776934800@californiacouncil.org
SUMMARY:SEN - SENATE BILLS -THIRD READING FILE
DESCRIPTION:#76 SB 1036 (Grayson) – Mitigation Fee Act.
URL:https://californiacouncil.org/event/sen-senate-bills-third-reading-file-7
LOCATION:SENATE FLOOR
CATEGORIES:Capitol Track
END:VEVENT
BEGIN:VEVENT
DTSTART;TZID=America/Los_Angeles:20260427T100000
DTEND;TZID=America/Los_Angeles:20260427T100000
DTSTAMP:20260422T155228
CREATED:20260422T183519Z
LAST-MODIFIED:20260422T184011Z
UID:10008446-1777284000-1777284000@californiacouncil.org
SUMMARY:SEN - APPROPRIATIONS\, CERVANTES\, SABRINA\, Chair
DESCRIPTION:SB 967 (Blakespear) – Planning and zoning: housing element: interim housing units: acutely low income households.
URL:https://californiacouncil.org/event/sen-appropriations-cervantes-sabrina-chair-7
LOCATION:10 a.m. – 1021 O Street\, Room 2200\, O Street 1021\, Sacramento\, California\, 95814\, United States
CATEGORIES:Capitol Track
GEO:38.5749346;-121.4950986
X-APPLE-STRUCTURED-LOCATION;VALUE=URI;X-ADDRESS=10 a.m. – 1021 O Street Room 2200 O Street 1021 Sacramento California 95814 United States;X-APPLE-RADIUS=500;X-TITLE=O Street 1021:geo:-121.4950986,38.5749346
END:VEVENT
BEGIN:VEVENT
DTSTART;TZID=America/Los_Angeles:20260429T093000
DTEND;TZID=America/Los_Angeles:20260429T093000
DTSTAMP:20260422T155228
CREATED:20260422T183520Z
LAST-MODIFIED:20260422T184011Z
UID:10008447-1777455000-1777455000@californiacouncil.org
SUMMARY:ASM - HOUSING AND COMMUNITY DEVELOPMENT\, HANEY\, MATT\, Chair
DESCRIPTION:AB 2552 (Ávila Farías) – California Environmental Quality Act: Transit-Oriented Development Implementation Fund: contributions.
URL:https://californiacouncil.org/event/asm-housing-and-community-development-haney-matt-chair-3838
LOCATION:9:30 a.m. – State Capitol\, Room 437
CATEGORIES:Capitol Track
END:VEVENT
END:VCALENDAR