BEGIN:VCALENDAR
VERSION:2.0
PRODID:-//California Council for Affordable Housing - ECPv6.15.20//NONSGML v1.0//EN
CALSCALE:GREGORIAN
METHOD:PUBLISH
X-ORIGINAL-URL:https://californiacouncil.org
X-WR-CALDESC:Events for California Council for Affordable Housing
REFRESH-INTERVAL;VALUE=DURATION:PT1H
X-Robots-Tag:noindex
X-PUBLISHED-TTL:PT1H
BEGIN:VTIMEZONE
TZID:America/Los_Angeles
BEGIN:DAYLIGHT
TZOFFSETFROM:-0800
TZOFFSETTO:-0700
TZNAME:PDT
DTSTART:20250309T100000
END:DAYLIGHT
BEGIN:STANDARD
TZOFFSETFROM:-0700
TZOFFSETTO:-0800
TZNAME:PST
DTSTART:20251102T090000
END:STANDARD
BEGIN:DAYLIGHT
TZOFFSETFROM:-0800
TZOFFSETTO:-0700
TZNAME:PDT
DTSTART:20260308T100000
END:DAYLIGHT
BEGIN:STANDARD
TZOFFSETFROM:-0700
TZOFFSETTO:-0800
TZNAME:PST
DTSTART:20261101T090000
END:STANDARD
BEGIN:DAYLIGHT
TZOFFSETFROM:-0800
TZOFFSETTO:-0700
TZNAME:PDT
DTSTART:20270314T100000
END:DAYLIGHT
BEGIN:STANDARD
TZOFFSETFROM:-0700
TZOFFSETTO:-0800
TZNAME:PST
DTSTART:20271107T090000
END:STANDARD
END:VTIMEZONE
BEGIN:VEVENT
DTSTART;TZID=America/Los_Angeles:20260427T130000
DTEND;TZID=America/Los_Angeles:20260427T130000
DTSTAMP:20260425T154656
CREATED:20260425T192019Z
LAST-MODIFIED:20260425T192512Z
UID:10008465-1777294800-1777294800@californiacouncil.org
SUMMARY:ASM - SECOND READING FILE -- ASSEMBLY BILLS
DESCRIPTION:#19 AB 2264 (Lackey) – District agricultural associations: real property: affordable housing.#20 AB 2320 (Ta) – Multifamily Housing Program: Homekey: adaptive reuse.#26 AB 1740 (Zbur) – Coastal resources: coastal development permits: Santa Monica.#28 AB 1997 (Lee) – Land use: housing development approvals: timelines and processes.#57 AB 2118 (Hoover) – Affordable Housing and High Road Jobs Act of 2022: use by right: objective standards.
URL:https://californiacouncil.org/event/asm-second-reading-file-assembly-bills-50
LOCATION:ASSEMBLY FLOOR
CATEGORIES:Capitol Track
END:VEVENT
BEGIN:VEVENT
DTSTART;TZID=America/Los_Angeles:20260427T140000
DTEND;TZID=America/Los_Angeles:20260427T140000
DTSTAMP:20260425T154656
CREATED:20260425T192019Z
LAST-MODIFIED:20260425T192512Z
UID:10008467-1777298400-1777298400@californiacouncil.org
SUMMARY:SEN - CONSENT CALENDAR FIRST LEGISLATIVE DAY
DESCRIPTION:#110 SB 1170 (Durazo) – Joint powers agreements: nonprofit housing developers.
URL:https://californiacouncil.org/event/sen-consent-calendar-first-legislative-day-3
LOCATION:SENATE FLOOR
CATEGORIES:Capitol Track
END:VEVENT
BEGIN:VEVENT
DTSTART;TZID=America/Los_Angeles:20260427T140000
DTEND;TZID=America/Los_Angeles:20260427T140000
DTSTAMP:20260425T154656
CREATED:20260425T192019Z
LAST-MODIFIED:20260425T192513Z
UID:10008468-1777298400-1777298400@californiacouncil.org
SUMMARY:SEN - SENATE BILLS -THIRD READING FILE
DESCRIPTION:#80 SB 1036 (Grayson) – Mitigation Fee Act.
URL:https://californiacouncil.org/event/sen-senate-bills-third-reading-file-10
LOCATION:SENATE FLOOR
CATEGORIES:Capitol Track
END:VEVENT
BEGIN:VEVENT
DTSTART;TZID=America/Los_Angeles:20260429T090000
DTEND;TZID=America/Los_Angeles:20260429T090000
DTSTAMP:20260425T154656
CREATED:20260425T192020Z
LAST-MODIFIED:20260425T192513Z
UID:10008469-1777453200-1777453200@californiacouncil.org
SUMMARY:ASM - APPROPRIATIONS\, WICKS\, BUFFY\, Chair
DESCRIPTION:AB 1710 (Carrillo) – Housing developments: ordinances\, policies\, and standards.AB 2020 (Gabriel) – Housing programs: financing.
URL:https://californiacouncil.org/event/asm-appropriations-wicks-buffy-chair-23
LOCATION:9 a.m. – 1021 O Street\, Room 1100\, O Street 1021\, Sacramento\, California\, 95814\, United States
CATEGORIES:Capitol Track
GEO:38.5749346;-121.4950986
X-APPLE-STRUCTURED-LOCATION;VALUE=URI;X-ADDRESS=9 a.m. – 1021 O Street Room 1100 O Street 1021 Sacramento California 95814 United States;X-APPLE-RADIUS=500;X-TITLE=O Street 1021:geo:-121.4950986,38.5749346
END:VEVENT
BEGIN:VEVENT
DTSTART;TZID=America/Los_Angeles:20260429T093000
DTEND;TZID=America/Los_Angeles:20260429T093000
DTSTAMP:20260425T154656
CREATED:20260425T192020Z
LAST-MODIFIED:20260425T192513Z
UID:10008470-1777455000-1777455000@californiacouncil.org
SUMMARY:ASM - HOUSING AND COMMUNITY DEVELOPMENT\, HANEY\, MATT\, Chair
DESCRIPTION:AB 2552 (Ávila Farías) – California Environmental Quality Act: Transit-Oriented Development Implementation Fund: contributions.
URL:https://californiacouncil.org/event/asm-housing-and-community-development-haney-matt-chair-3842
LOCATION:9:30 a.m. – State Capitol\, Room 437
CATEGORIES:Capitol Track
END:VEVENT
END:VCALENDAR