BEGIN:VCALENDAR
VERSION:2.0
PRODID:-//California Council for Affordable Housing - ECPv6.15.20//NONSGML v1.0//EN
CALSCALE:GREGORIAN
METHOD:PUBLISH
X-WR-CALNAME:California Council for Affordable Housing
X-ORIGINAL-URL:https://californiacouncil.org
X-WR-CALDESC:Events for California Council for Affordable Housing
REFRESH-INTERVAL;VALUE=DURATION:PT1H
X-Robots-Tag:noindex
X-PUBLISHED-TTL:PT1H
BEGIN:VTIMEZONE
TZID:America/Los_Angeles
BEGIN:DAYLIGHT
TZOFFSETFROM:-0800
TZOFFSETTO:-0700
TZNAME:PDT
DTSTART:20240310T100000
END:DAYLIGHT
BEGIN:STANDARD
TZOFFSETFROM:-0700
TZOFFSETTO:-0800
TZNAME:PST
DTSTART:20241103T090000
END:STANDARD
BEGIN:DAYLIGHT
TZOFFSETFROM:-0800
TZOFFSETTO:-0700
TZNAME:PDT
DTSTART:20250309T100000
END:DAYLIGHT
BEGIN:STANDARD
TZOFFSETFROM:-0700
TZOFFSETTO:-0800
TZNAME:PST
DTSTART:20251102T090000
END:STANDARD
BEGIN:DAYLIGHT
TZOFFSETFROM:-0800
TZOFFSETTO:-0700
TZNAME:PDT
DTSTART:20260308T100000
END:DAYLIGHT
BEGIN:STANDARD
TZOFFSETFROM:-0700
TZOFFSETTO:-0800
TZNAME:PST
DTSTART:20261101T090000
END:STANDARD
END:VTIMEZONE
BEGIN:VEVENT
DTSTART;TZID=America/Los_Angeles:20250325T000000
DTEND;TZID=America/Los_Angeles:20250326T235959
DTSTAMP:20260421T125206
CREATED:20250207T223513Z
LAST-MODIFIED:20250317T223708Z
UID:10000001-1742860800-1743033599@californiacouncil.org
SUMMARY:Spring 2025 515 Course
DESCRIPTION: \n\n\n\n\nCCAH Launches Updated Webinar Covering California Tax Credits and USDA Rural Development Section 515\n\n\n\n\n\n\n\n\n\n\n\n\n\n\n\n\n\n\n\n\n\n\n\n\n\n\n\n\n\n\n\n\n\n\n\n\n\n\n\n\nJoin Rosemary Lynch\, President of Buckingham Property Management and CCAH Board member\, as she teaches a two-day webinar covering the fundamentals and regulations governing CA Tax Credits and USDA Rural Development Section 515. \nWhether today is your first day or you have 20+ years working with affordable housing communities\, this CEU eligible two-day seminar is the roadmap through the obstacle course that is LIHTC and USDA Rural Development property management. \nClass Format: ZOOM \nClass Dates: March 25 & 26 \nClass Times: 9:00 to 4:00 pm. \nCCAH Member: $295 \nNon Members: $395 \nRegistration limited to 100 attendees. \nA unique Zoom link will be provided to each participant.  Please do not share your link.
URL:https://californiacouncil.org/event/spring-2025-515-course
ATTACH;FMTTYPE=image/jpeg:https://californiacouncil.org/c/uploads/c419/R.-Lynch.jpg
ORGANIZER;CN="Jenna Abbott":MAILTO:Jabbott@californiacouncil.org
LOCATION:
END:VEVENT
END:VCALENDAR