BEGIN:VCALENDAR
VERSION:2.0
PRODID:-//California Council for Affordable Housing - ECPv6.15.20//NONSGML v1.0//EN
CALSCALE:GREGORIAN
METHOD:PUBLISH
X-ORIGINAL-URL:https://californiacouncil.org
X-WR-CALDESC:Events for California Council for Affordable Housing
REFRESH-INTERVAL;VALUE=DURATION:PT1H
X-Robots-Tag:noindex
X-PUBLISHED-TTL:PT1H
BEGIN:VTIMEZONE
TZID:America/Los_Angeles
BEGIN:DAYLIGHT
TZOFFSETFROM:-0800
TZOFFSETTO:-0700
TZNAME:PDT
DTSTART:20240310T100000
END:DAYLIGHT
BEGIN:STANDARD
TZOFFSETFROM:-0700
TZOFFSETTO:-0800
TZNAME:PST
DTSTART:20241103T090000
END:STANDARD
BEGIN:DAYLIGHT
TZOFFSETFROM:-0800
TZOFFSETTO:-0700
TZNAME:PDT
DTSTART:20250309T100000
END:DAYLIGHT
BEGIN:STANDARD
TZOFFSETFROM:-0700
TZOFFSETTO:-0800
TZNAME:PST
DTSTART:20251102T090000
END:STANDARD
BEGIN:DAYLIGHT
TZOFFSETFROM:-0800
TZOFFSETTO:-0700
TZNAME:PDT
DTSTART:20260308T100000
END:DAYLIGHT
BEGIN:STANDARD
TZOFFSETFROM:-0700
TZOFFSETTO:-0800
TZNAME:PST
DTSTART:20261101T090000
END:STANDARD
END:VTIMEZONE
BEGIN:VEVENT
DTSTART;TZID=America/Los_Angeles:20250611T000000
DTEND;TZID=America/Los_Angeles:20250613T235959
DTSTAMP:20260421T081523
CREATED:20250221T185153Z
LAST-MODIFIED:20250602T220224Z
UID:10000002-1749600000-1749859199@californiacouncil.org
SUMMARY:SOLD OUT - CCAH Spring 2025 Conference June 11-12\, 2025. Optional Post Conference Tours & Events June 13
DESCRIPTION:
URL:https://californiacouncil.org/event/ccah-spring-2025-conference-june-11-12-2025-tickets-online-here-early-march
LOCATION:Kimpton Sawyer Hotel\, 500 J Street\, Sacramento\, CA\, 95814\, United States
ATTACH;FMTTYPE=image/jpeg:https://californiacouncil.org/c/uploads/0bf9/0F0A5375.jpg
ORGANIZER;CN="Jenna Abbott":MAILTO:Jabbott@californiacouncil.org
GEO:38.5815339;-121.4996173
X-APPLE-STRUCTURED-LOCATION;VALUE=URI;X-ADDRESS=Kimpton Sawyer Hotel 500 J Street Sacramento CA 95814 United States;X-APPLE-RADIUS=500;X-TITLE=500 J Street:geo:-121.4996173,38.5815339
END:VEVENT
END:VCALENDAR